BEGIN:VCALENDAR
VERSION:2.0
PRODID:-//Bike Calgary - ECPv6.15.12.2//NONSGML v1.0//EN
CALSCALE:GREGORIAN
METHOD:PUBLISH
X-ORIGINAL-URL:https://bikecalgary.org
X-WR-CALDESC:Events for Bike Calgary
REFRESH-INTERVAL;VALUE=DURATION:PT1H
X-Robots-Tag:noindex
X-PUBLISHED-TTL:PT1H
BEGIN:VTIMEZONE
TZID:America/Edmonton
BEGIN:DAYLIGHT
TZOFFSETFROM:-0700
TZOFFSETTO:-0600
TZNAME:MDT
DTSTART:20170312T090000
END:DAYLIGHT
BEGIN:STANDARD
TZOFFSETFROM:-0600
TZOFFSETTO:-0700
TZNAME:MST
DTSTART:20171105T080000
END:STANDARD
BEGIN:DAYLIGHT
TZOFFSETFROM:-0700
TZOFFSETTO:-0600
TZNAME:MDT
DTSTART:20180311T090000
END:DAYLIGHT
BEGIN:STANDARD
TZOFFSETFROM:-0600
TZOFFSETTO:-0700
TZNAME:MST
DTSTART:20181104T080000
END:STANDARD
BEGIN:DAYLIGHT
TZOFFSETFROM:-0700
TZOFFSETTO:-0600
TZNAME:MDT
DTSTART:20190310T090000
END:DAYLIGHT
BEGIN:STANDARD
TZOFFSETFROM:-0600
TZOFFSETTO:-0700
TZNAME:MST
DTSTART:20191103T080000
END:STANDARD
BEGIN:DAYLIGHT
TZOFFSETFROM:-0700
TZOFFSETTO:-0600
TZNAME:MDT
DTSTART:20200308T090000
END:DAYLIGHT
BEGIN:STANDARD
TZOFFSETFROM:-0600
TZOFFSETTO:-0700
TZNAME:MST
DTSTART:20201101T080000
END:STANDARD
BEGIN:DAYLIGHT
TZOFFSETFROM:-0700
TZOFFSETTO:-0600
TZNAME:MDT
DTSTART:20210314T090000
END:DAYLIGHT
BEGIN:STANDARD
TZOFFSETFROM:-0600
TZOFFSETTO:-0700
TZNAME:MST
DTSTART:20211107T080000
END:STANDARD
BEGIN:DAYLIGHT
TZOFFSETFROM:-0700
TZOFFSETTO:-0600
TZNAME:MDT
DTSTART:20220313T090000
END:DAYLIGHT
BEGIN:STANDARD
TZOFFSETFROM:-0600
TZOFFSETTO:-0700
TZNAME:MST
DTSTART:20221106T080000
END:STANDARD
BEGIN:DAYLIGHT
TZOFFSETFROM:-0700
TZOFFSETTO:-0600
TZNAME:MDT
DTSTART:20230312T090000
END:DAYLIGHT
BEGIN:STANDARD
TZOFFSETFROM:-0600
TZOFFSETTO:-0700
TZNAME:MST
DTSTART:20231105T080000
END:STANDARD
BEGIN:DAYLIGHT
TZOFFSETFROM:-0700
TZOFFSETTO:-0600
TZNAME:MDT
DTSTART:20240310T090000
END:DAYLIGHT
BEGIN:STANDARD
TZOFFSETFROM:-0600
TZOFFSETTO:-0700
TZNAME:MST
DTSTART:20241103T080000
END:STANDARD
BEGIN:DAYLIGHT
TZOFFSETFROM:-0700
TZOFFSETTO:-0600
TZNAME:MDT
DTSTART:20250309T090000
END:DAYLIGHT
BEGIN:STANDARD
TZOFFSETFROM:-0600
TZOFFSETTO:-0700
TZNAME:MST
DTSTART:20251102T080000
END:STANDARD
BEGIN:DAYLIGHT
TZOFFSETFROM:-0700
TZOFFSETTO:-0600
TZNAME:MDT
DTSTART:20260308T090000
END:DAYLIGHT
BEGIN:STANDARD
TZOFFSETFROM:-0600
TZOFFSETTO:-0700
TZNAME:MST
DTSTART:20261101T080000
END:STANDARD
END:VTIMEZONE
BEGIN:VEVENT
DTSTART;TZID=America/Edmonton:20250607T110000
DTEND;TZID=America/Edmonton:20250608T140000
DTSTAMP:20260423T124133
CREATED:20250529T133627Z
LAST-MODIFIED:20250529T134723Z
UID:121653-1749294000-1749391200@bikecalgary.org
SUMMARY:Go Electric! Electric Mobility Summer Fest
DESCRIPTION:The big shift is happening. Thousands of Calgarians are choosing electric to get around\, year-round. Why not you? Kickoff your summer with this weekend event and discover the future of electric mobility. E-bike rentals provided by Bow Cycle East Village to try it out and get demos and exclusive offers for the shared e-bike and e-scooter program. \n 
URL:https://bikecalgary.org/event/go-electric-electric-mobility-summer-fest/
LOCATION:RiverWalk Plaza East Village\, 632 Confluence Way SE\, Calgary\, Alberta\, T2G 0G1\, Canada
CATEGORIES:City engagement session
END:VEVENT
BEGIN:VEVENT
DTSTART;TZID=America/Edmonton:20180922T100000
DTEND;TZID=America/Edmonton:20180922T140000
DTSTAMP:20260423T124133
CREATED:20180916T233009Z
LAST-MODIFIED:20180916T233009Z
UID:590-1537610400-1537624800@bikecalgary.org
SUMMARY:Main Streets engagement session
DESCRIPTION:City of Calgary project teams will be sharing proposed land use changes for the main street area and revealing a streetscape concept design. They are looking for feedback from Calgarians who live\, shop or commute in the 33 and 34 Avenues S.W. main street area. \nEngagement session will be held at Infinity @ Marda Loop (2016 34 Avenue S.W.).
URL:https://bikecalgary.org/event/main-streets-engagement-session/
LOCATION:Infinity @ Marda Loop\, 2016 34 Avenue S.W.\, Calgary\, Alberta\, Canada
CATEGORIES:City engagement session
END:VEVENT
END:VCALENDAR