BEGIN:VCALENDAR
VERSION:2.0
PRODID:-//Bike Calgary - ECPv6.15.12.2//NONSGML v1.0//EN
CALSCALE:GREGORIAN
METHOD:PUBLISH
X-ORIGINAL-URL:https://bikecalgary.org
X-WR-CALDESC:Events for Bike Calgary
REFRESH-INTERVAL;VALUE=DURATION:PT1H
X-Robots-Tag:noindex
X-PUBLISHED-TTL:PT1H
BEGIN:VTIMEZONE
TZID:America/Edmonton
BEGIN:DAYLIGHT
TZOFFSETFROM:-0700
TZOFFSETTO:-0600
TZNAME:MDT
DTSTART:20240310T090000
END:DAYLIGHT
BEGIN:STANDARD
TZOFFSETFROM:-0600
TZOFFSETTO:-0700
TZNAME:MST
DTSTART:20241103T080000
END:STANDARD
BEGIN:DAYLIGHT
TZOFFSETFROM:-0700
TZOFFSETTO:-0600
TZNAME:MDT
DTSTART:20250309T090000
END:DAYLIGHT
BEGIN:STANDARD
TZOFFSETFROM:-0600
TZOFFSETTO:-0700
TZNAME:MST
DTSTART:20251102T080000
END:STANDARD
BEGIN:DAYLIGHT
TZOFFSETFROM:-0700
TZOFFSETTO:-0600
TZNAME:MDT
DTSTART:20260308T090000
END:DAYLIGHT
BEGIN:STANDARD
TZOFFSETFROM:-0600
TZOFFSETTO:-0700
TZNAME:MST
DTSTART:20261101T080000
END:STANDARD
END:VTIMEZONE
BEGIN:VEVENT
DTSTART;TZID=America/Edmonton:20251004T093000
DTEND;TZID=America/Edmonton:20251004T113000
DTSTAMP:20260421T041022
CREATED:20250929T040127Z
LAST-MODIFIED:20250929T040255Z
UID:121720-1759570200-1759577400@bikecalgary.org
SUMMARY:International #coffeeoutside day with BikeBike
DESCRIPTION:Date: Saturday October 4\, 2025 \nTime: 9:30am – 11:30am \nPlace: Edworthy Park (start)\, then ride to Rotary Park (coffee and cookies) \nRegistration: none required\, though you can sign up on the local event page here. This event is hosted by BikeBike and ridewithgps.com \nDetails: Join the local bike shop BikeBike and the friendly bike community on an (optional) short ride\, followed by coffee from Sought x Found and cookies from BakeBakeYYC. Local Calgary page here. Global page here.
URL:https://bikecalgary.org/event/international-coffeeoutside-day-with-bikebike/
END:VEVENT
BEGIN:VEVENT
DTSTART;TZID=America/Edmonton:20251025T100000
DTEND;TZID=America/Edmonton:20251025T123000
DTSTAMP:20260421T041022
CREATED:20251020T015012Z
LAST-MODIFIED:20251020T024922Z
UID:121754-1761386400-1761395400@bikecalgary.org
SUMMARY:Hallowheelin' with Calgary Climate Hub
DESCRIPTION:Date: Saturday October 25\, 2025 \nTime: 10am – 12:30pm \nLocation: Meet at Calgary City Hall (800 MacLeod St SE) \nRegistration: please register here \nDetails: This is the first outing in their brand new exciting event series “Downtown Movin’ and Groovin.'” Whip up a bike-friendly costume and come Hallowheelin’ us.
URL:https://bikecalgary.org/event/hallowheelin-with-calgary-climate-hub/
LOCATION:City Hall\, 800 MacLeod Tr SE\, Calgary\, Alberta\, Canada
ATTACH;FMTTYPE=image/png:https://bikecalgary.org/wp-content/uploads/2025/10/Poster_Basic.png
END:VEVENT
END:VCALENDAR