BEGIN:VCALENDAR
VERSION:2.0
PRODID:-//Bike Calgary - ECPv6.15.12.2//NONSGML v1.0//EN
CALSCALE:GREGORIAN
METHOD:PUBLISH
X-WR-CALNAME:Bike Calgary
X-ORIGINAL-URL:https://bikecalgary.org
X-WR-CALDESC:Events for Bike Calgary
REFRESH-INTERVAL;VALUE=DURATION:PT1H
X-Robots-Tag:noindex
X-PUBLISHED-TTL:PT1H
BEGIN:VTIMEZONE
TZID:America/Edmonton
BEGIN:DAYLIGHT
TZOFFSETFROM:-0700
TZOFFSETTO:-0600
TZNAME:MDT
DTSTART:20240310T090000
END:DAYLIGHT
BEGIN:STANDARD
TZOFFSETFROM:-0600
TZOFFSETTO:-0700
TZNAME:MST
DTSTART:20241103T080000
END:STANDARD
BEGIN:DAYLIGHT
TZOFFSETFROM:-0700
TZOFFSETTO:-0600
TZNAME:MDT
DTSTART:20250309T090000
END:DAYLIGHT
BEGIN:STANDARD
TZOFFSETFROM:-0600
TZOFFSETTO:-0700
TZNAME:MST
DTSTART:20251102T080000
END:STANDARD
BEGIN:DAYLIGHT
TZOFFSETFROM:-0700
TZOFFSETTO:-0600
TZNAME:MDT
DTSTART:20260308T090000
END:DAYLIGHT
BEGIN:STANDARD
TZOFFSETFROM:-0600
TZOFFSETTO:-0700
TZNAME:MST
DTSTART:20261101T080000
END:STANDARD
END:VTIMEZONE
BEGIN:VEVENT
DTSTART;TZID=America/Edmonton:20251105T190000
DTEND;TZID=America/Edmonton:20251105T210000
DTSTAMP:20260421T022411
CREATED:20251014T011004Z
LAST-MODIFIED:20251014T011155Z
UID:121747-1762369200-1762376400@bikecalgary.org
SUMMARY:Bike Calgary AGM
DESCRIPTION:Date: Wednesday November 5\, 2025 \nTime: 7pm – 9pm (doors at 6:45pm) \nLocation: Sunalta Community Hub\, Calgary (in-person); 1639 10 Avenue\, SW\, T3C 0J5. (Right across from the Sunalta LRT Line and near the Bow Valley Pathway.) \nRegistration: please register here so we have an idea of numbers \nDetails: \nAll Bike Calgary members are welcome; voting privileges are limited to members in good standing as of the meeting start time. We will: \n\nReceive the 2024–25 annual report and financial statements\nElect Directors to the Board\nReview priorities for the coming year and member business\n\n 
URL:https://bikecalgary.org/event/bike-calgary-agm/
LOCATION:Sunalta Community Hub\, 1639 10 Avenue\, SW\, Calgary\, Alberta\, T3C 0J5\, Canada
END:VEVENT
END:VCALENDAR